BEGIN:VCALENDAR
VERSION:2.0
PRODID:-//Huntsville Art Society - ECPv6.15.20//NONSGML v1.0//EN
CALSCALE:GREGORIAN
METHOD:PUBLISH
X-ORIGINAL-URL:https://huntsvilleart.ca
X-WR-CALDESC:Events for Huntsville Art Society
REFRESH-INTERVAL;VALUE=DURATION:PT1H
X-Robots-Tag:noindex
X-PUBLISHED-TTL:PT1H
BEGIN:VTIMEZONE
TZID:America/Toronto
BEGIN:DAYLIGHT
TZOFFSETFROM:-0500
TZOFFSETTO:-0400
TZNAME:EDT
DTSTART:20220313T070000
END:DAYLIGHT
BEGIN:STANDARD
TZOFFSETFROM:-0400
TZOFFSETTO:-0500
TZNAME:EST
DTSTART:20221106T060000
END:STANDARD
BEGIN:DAYLIGHT
TZOFFSETFROM:-0500
TZOFFSETTO:-0400
TZNAME:EDT
DTSTART:20230312T070000
END:DAYLIGHT
BEGIN:STANDARD
TZOFFSETFROM:-0400
TZOFFSETTO:-0500
TZNAME:EST
DTSTART:20231105T060000
END:STANDARD
BEGIN:DAYLIGHT
TZOFFSETFROM:-0500
TZOFFSETTO:-0400
TZNAME:EDT
DTSTART:20240310T070000
END:DAYLIGHT
BEGIN:STANDARD
TZOFFSETFROM:-0400
TZOFFSETTO:-0500
TZNAME:EST
DTSTART:20241103T060000
END:STANDARD
BEGIN:DAYLIGHT
TZOFFSETFROM:-0500
TZOFFSETTO:-0400
TZNAME:EDT
DTSTART:20250309T070000
END:DAYLIGHT
BEGIN:STANDARD
TZOFFSETFROM:-0400
TZOFFSETTO:-0500
TZNAME:EST
DTSTART:20251102T060000
END:STANDARD
END:VTIMEZONE
BEGIN:VEVENT
DTSTART;VALUE=DATE:20231101
DTEND;VALUE=DATE:20240201
DTSTAMP:20260421T201425
CREATED:20231122T152246Z
LAST-MODIFIED:20231122T223220Z
UID:3430-1698796800-1706745599@huntsvilleart.ca
SUMMARY:HAS at HPL: Brenda Turnour
DESCRIPTION:The Huntsville Art Society presents Brenda Turnour at Huntsville Public Library. \nMake your way to 7 Minerva Street during library hours to see her work before the end of January! \nLearn more about Brenda at huntsvilleart.ca/artist/brenda-turnour.
URL:https://huntsvilleart.ca/event/has-at-hpl-brenda-turnour-2/
LOCATION:Huntsville Public Library\, 7 Minerva Street East\, Huntsville\, Ontario\, P1H 1W4\, Canada
CATEGORIES:Exhibitions - Huntsville Public Library
ATTACH;FMTTYPE=image/jpeg:https://huntsvilleart.ca/wp-content/uploads/2023/11/Brenda-Turnour-HPL.jpg
END:VEVENT
BEGIN:VEVENT
DTSTART;VALUE=DATE:20240115
DTEND;VALUE=DATE:20240401
DTSTAMP:20260421T201425
CREATED:20240131T150447Z
LAST-MODIFIED:20240131T150447Z
UID:3567-1705276800-1711929599@huntsvilleart.ca
SUMMARY:HAS at HPL: Terri Howell
DESCRIPTION:The Huntsville Art Society presents Terri Howell at Huntsville Public Library. \nMake your way to 7 Minerva Street during library hours to see her work before the end of March! \nLearn more about Terri at huntsvilleart.ca/artist/terri-howell.
URL:https://huntsvilleart.ca/event/has-at-hpl-terri-howell/
LOCATION:Huntsville Public Library\, 7 Minerva Street East\, Huntsville\, Ontario\, P1H 1W4\, Canada
CATEGORIES:Exhibitions - Huntsville Public Library
ATTACH;FMTTYPE=image/png:https://huntsvilleart.ca/wp-content/uploads/2024/01/HAS-at-HPL-Terri-Howell.png
END:VEVENT
BEGIN:VEVENT
DTSTART;VALUE=DATE:20240508
DTEND;VALUE=DATE:20240606
DTSTAMP:20260421T201425
CREATED:20240510T161505Z
LAST-MODIFIED:20240510T161505Z
UID:3763-1715126400-1717631999@huntsvilleart.ca
SUMMARY:HAS at HPL: the Muskoka Printmaker Collective
DESCRIPTION:The Huntsville Art Society presents the Muskoka Printmaker Collective at Huntsville Public Library. \nMake your way to 7 Minerva Street during library hours to see the works of Christina MacBean (Butterfly Way Studio)\, Dawn Huddlestone (Birch Notes Creative)\, Elise Muller (Stone Tree Studio)\, and Karen Gray (The Potter’s Studio) before June 5!
URL:https://huntsvilleart.ca/event/has-at-hpl-the-muskoka-printmaker-collective/
LOCATION:Huntsville Public Library\, 7 Minerva Street East\, Huntsville\, Ontario\, P1H 1W4\, Canada
CATEGORIES:Exhibitions - Huntsville Public Library
ATTACH;FMTTYPE=image/jpeg:https://huntsvilleart.ca/wp-content/uploads/2024/05/MPC-at-HPL-8.jpg
END:VEVENT
END:VCALENDAR