BEGIN:VCALENDAR
VERSION:2.0
PRODID:-//Huntsville Art Society - ECPv6.15.20//NONSGML v1.0//EN
CALSCALE:GREGORIAN
METHOD:PUBLISH
X-ORIGINAL-URL:https://huntsvilleart.ca
X-WR-CALDESC:Events for Huntsville Art Society
REFRESH-INTERVAL;VALUE=DURATION:PT1H
X-Robots-Tag:noindex
X-PUBLISHED-TTL:PT1H
BEGIN:VTIMEZONE
TZID:America/Toronto
BEGIN:DAYLIGHT
TZOFFSETFROM:-0500
TZOFFSETTO:-0400
TZNAME:EDT
DTSTART:20230312T070000
END:DAYLIGHT
BEGIN:STANDARD
TZOFFSETFROM:-0400
TZOFFSETTO:-0500
TZNAME:EST
DTSTART:20231105T060000
END:STANDARD
BEGIN:DAYLIGHT
TZOFFSETFROM:-0500
TZOFFSETTO:-0400
TZNAME:EDT
DTSTART:20240310T070000
END:DAYLIGHT
BEGIN:STANDARD
TZOFFSETFROM:-0400
TZOFFSETTO:-0500
TZNAME:EST
DTSTART:20241103T060000
END:STANDARD
BEGIN:DAYLIGHT
TZOFFSETFROM:-0500
TZOFFSETTO:-0400
TZNAME:EDT
DTSTART:20250309T070000
END:DAYLIGHT
BEGIN:STANDARD
TZOFFSETFROM:-0400
TZOFFSETTO:-0500
TZNAME:EST
DTSTART:20251102T060000
END:STANDARD
END:VTIMEZONE
BEGIN:VEVENT
DTSTART;VALUE=DATE:20240602
DTEND;VALUE=DATE:20240701
DTSTAMP:20260419T210911
CREATED:20240225T174648Z
LAST-MODIFIED:20240530T105042Z
UID:3615-1717286400-1719791999@huntsvilleart.ca
SUMMARY:Square Foot North show & fundraiser (THURS-SUN\, 12-4 p.m.)
DESCRIPTION:Square Foot North is back! This fundraiser will support local artists\, the Huntsville Art Society\, and Huntsville Festival of the Arts. \nJoin us Thursdays-Sundays during the ART CRAWL in June from 2-4 p.m. at the HfA Studio at the back of 58 Main St. E (off Dara Howell Way across from River Mill Park). \nSee the show catalogue here.
URL:https://huntsvilleart.ca/event/square-foot-north-show-fundraiser-thurs-sun-12-4-p-m/
LOCATION:HfA Studio\, 58 Main St E (at the back facing River Mill Park)\, Huntsville\, Ontario\, Canada
CATEGORIES:Exhibitions - Other,Fundraisers
ATTACH;FMTTYPE=image/png:https://huntsvilleart.ca/wp-content/uploads/2024/03/Square-Foot-North-logo.png
END:VEVENT
END:VCALENDAR