BEGIN:VCALENDAR
VERSION:2.0
PRODID:-//Huntsville Art Society - ECPv6.15.20//NONSGML v1.0//EN
CALSCALE:GREGORIAN
METHOD:PUBLISH
X-ORIGINAL-URL:https://huntsvilleart.ca
X-WR-CALDESC:Events for Huntsville Art Society
REFRESH-INTERVAL;VALUE=DURATION:PT1H
X-Robots-Tag:noindex
X-PUBLISHED-TTL:PT1H
BEGIN:VTIMEZONE
TZID:America/Toronto
BEGIN:DAYLIGHT
TZOFFSETFROM:-0500
TZOFFSETTO:-0400
TZNAME:EDT
DTSTART:20230312T070000
END:DAYLIGHT
BEGIN:STANDARD
TZOFFSETFROM:-0400
TZOFFSETTO:-0500
TZNAME:EST
DTSTART:20231105T060000
END:STANDARD
BEGIN:DAYLIGHT
TZOFFSETFROM:-0500
TZOFFSETTO:-0400
TZNAME:EDT
DTSTART:20240310T070000
END:DAYLIGHT
BEGIN:STANDARD
TZOFFSETFROM:-0400
TZOFFSETTO:-0500
TZNAME:EST
DTSTART:20241103T060000
END:STANDARD
BEGIN:DAYLIGHT
TZOFFSETFROM:-0500
TZOFFSETTO:-0400
TZNAME:EDT
DTSTART:20250309T070000
END:DAYLIGHT
BEGIN:STANDARD
TZOFFSETFROM:-0400
TZOFFSETTO:-0500
TZNAME:EST
DTSTART:20251102T060000
END:STANDARD
END:VTIMEZONE
BEGIN:VEVENT
DTSTART;VALUE=DATE:20240115
DTEND;VALUE=DATE:20240127
DTSTAMP:20260420T040234
CREATED:20231129T162337Z
LAST-MODIFIED:20240118T191626Z
UID:3448-1705276800-1706313599@huntsvilleart.ca
SUMMARY:Exhibition: Mismatched Socks ft. HHS art and photography students (MON-FRI 10-4:30)
DESCRIPTION:View a retrospective of works by Huntsville High School 2023 art and photography students at your leisure\, Monday to Friday\, 10 a.m. to 4:30 p.m. (Note that the gallery may be closed on occasion for events.) \nFeaturing the works of: \nEamon Allison\nAva Arnott-Gilchrist\nElianna Ballantyne\nJaime Ferris\nFiona Fletcher\nAlyssa Hartman\nAva Hayes\nJacob Hill\nMegan Koop\nJulia Langfeld\nMillie Langlais\nMax Lemay\nEvelyn MacBean\nLeonie Meyer\nLiam Munro\nNina Nakagawa\nMia Pitts\nSavanah Spencer\nGina Talbot\nMarin Traill Garland\nHales Turney\nAshley Vanderstelt\nEllie Wendell\nKeanan White\nMadi Wilding\nHaruka Yamana\nJordan Yarbrough (a.k.a. J Money) \nTilly Douglas\nJacie Law\nCharlotte Luttrell\nJackson MacDougall\nKieran Miles\nAleah Nichols \nBe sure to join them for an opening reception on January 23 from 3:30-5 p.m.!
URL:https://huntsvilleart.ca/event/exhibition-huntsville-high-school-art-and-photography-students/
LOCATION:Partners Hall\, Algonquin Theatre\, 37 Main St. East\, Huntsville\, Ontario\, P1H 1A1\, Canada
CATEGORIES:Exhibitions
ATTACH;FMTTYPE=image/jpeg:https://huntsvilleart.ca/wp-content/uploads/2023/11/Mismatched-Socks4-1-scaled.jpg
END:VEVENT
END:VCALENDAR