BEGIN:VCALENDAR
VERSION:2.0
PRODID:-//Huntsville Art Society - ECPv6.15.20//NONSGML v1.0//EN
CALSCALE:GREGORIAN
METHOD:PUBLISH
X-ORIGINAL-URL:https://huntsvilleart.ca
X-WR-CALDESC:Events for Huntsville Art Society
REFRESH-INTERVAL;VALUE=DURATION:PT1H
X-Robots-Tag:noindex
X-PUBLISHED-TTL:PT1H
BEGIN:VTIMEZONE
TZID:America/Toronto
BEGIN:DAYLIGHT
TZOFFSETFROM:-0500
TZOFFSETTO:-0400
TZNAME:EDT
DTSTART:20230312T070000
END:DAYLIGHT
BEGIN:STANDARD
TZOFFSETFROM:-0400
TZOFFSETTO:-0500
TZNAME:EST
DTSTART:20231105T060000
END:STANDARD
BEGIN:DAYLIGHT
TZOFFSETFROM:-0500
TZOFFSETTO:-0400
TZNAME:EDT
DTSTART:20240310T070000
END:DAYLIGHT
BEGIN:STANDARD
TZOFFSETFROM:-0400
TZOFFSETTO:-0500
TZNAME:EST
DTSTART:20241103T060000
END:STANDARD
BEGIN:DAYLIGHT
TZOFFSETFROM:-0500
TZOFFSETTO:-0400
TZNAME:EDT
DTSTART:20250309T070000
END:DAYLIGHT
BEGIN:STANDARD
TZOFFSETFROM:-0400
TZOFFSETTO:-0500
TZNAME:EST
DTSTART:20251102T060000
END:STANDARD
END:VTIMEZONE
BEGIN:VEVENT
DTSTART;TZID=America/Toronto:20240102T100000
DTEND;TZID=America/Toronto:20240112T163000
DTSTAMP:20260420T053519
CREATED:20231122T151056Z
LAST-MODIFIED:20231122T151056Z
UID:3428-1704189600-1705077000@huntsvilleart.ca
SUMMARY:Exhibition: Such Small Things by Tiffany Monk (MON-FRI 10-4:30)
DESCRIPTION:View Tiffany’s works at your leisure Monday to Friday\, 10 a.m. to 4:30 p.m. (Note that the gallery may be closed on occasion for events\, and will also be closed over the holidays.) \nView more of Tiffany’s work at huntsvilleart.ca/artist/tiffany-monk.
URL:https://huntsvilleart.ca/event/exhibition-such-small-things-by-tiffany-monk-mon-fri-10-430-2/
LOCATION:Partners Hall\, Algonquin Theatre\, 37 Main St. East\, Huntsville\, Ontario\, P1H 1A1\, Canada
CATEGORIES:Exhibitions
ATTACH;FMTTYPE=image/jpeg:https://huntsvilleart.ca/wp-content/uploads/2023/11/Monk-Small-Things-copy-1-scaled.jpg
END:VEVENT
END:VCALENDAR