BEGIN:VCALENDAR
VERSION:2.0
PRODID:-//Huntsville Art Society - ECPv6.15.20//NONSGML v1.0//EN
CALSCALE:GREGORIAN
METHOD:PUBLISH
X-ORIGINAL-URL:https://huntsvilleart.ca
X-WR-CALDESC:Events for Huntsville Art Society
REFRESH-INTERVAL;VALUE=DURATION:PT1H
X-Robots-Tag:noindex
X-PUBLISHED-TTL:PT1H
BEGIN:VTIMEZONE
TZID:America/Toronto
BEGIN:DAYLIGHT
TZOFFSETFROM:-0500
TZOFFSETTO:-0400
TZNAME:EDT
DTSTART:20220313T070000
END:DAYLIGHT
BEGIN:STANDARD
TZOFFSETFROM:-0400
TZOFFSETTO:-0500
TZNAME:EST
DTSTART:20221106T060000
END:STANDARD
BEGIN:DAYLIGHT
TZOFFSETFROM:-0500
TZOFFSETTO:-0400
TZNAME:EDT
DTSTART:20230312T070000
END:DAYLIGHT
BEGIN:STANDARD
TZOFFSETFROM:-0400
TZOFFSETTO:-0500
TZNAME:EST
DTSTART:20231105T060000
END:STANDARD
BEGIN:DAYLIGHT
TZOFFSETFROM:-0500
TZOFFSETTO:-0400
TZNAME:EDT
DTSTART:20240310T070000
END:DAYLIGHT
BEGIN:STANDARD
TZOFFSETFROM:-0400
TZOFFSETTO:-0500
TZNAME:EST
DTSTART:20241103T060000
END:STANDARD
END:VTIMEZONE
BEGIN:VEVENT
DTSTART;VALUE=DATE:20230704
DTEND;VALUE=DATE:20230802
DTSTAMP:20260420T173052
CREATED:20230607T165724Z
LAST-MODIFIED:20230619T183531Z
UID:3218-1688428800-1690934399@huntsvilleart.ca
SUMMARY:Exhibition: Big Spaces\, Quiet Places by Jill Boschulte (Mon-Fri\, 10-4:30)
DESCRIPTION:View Jill’s works at your leisure Monday to Friday\, 10 a.m. to 4:30 p.m. (Note that the gallery may be closed on occasion for events.) \nAnd be sure to join her for an opening reception on July 7 from 4-6 p.m. \nView more of Jill’s work at huntsvilleart.ca/artist/jill-boschulte.
URL:https://huntsvilleart.ca/event/exhibition-big-spaces-quiet-places-by-jill-boschulte-mon-fri-10-430/
LOCATION:Partners Hall\, Algonquin Theatre\, 37 Main St. East\, Huntsville\, Ontario\, P1H 1A1\, Canada
CATEGORIES:Exhibitions
ATTACH;FMTTYPE=image/jpeg:https://huntsvilleart.ca/wp-content/uploads/2023/06/Jill-Boschulte-July4-scaled.jpg
ORGANIZER;CN="Huntsville Festival of the Arts":MAILTO:info@huntsvillefestival.on.ca
END:VEVENT
END:VCALENDAR