BEGIN:VCALENDAR
VERSION:2.0
PRODID:-//Huntsville Art Society - ECPv6.15.20//NONSGML v1.0//EN
CALSCALE:GREGORIAN
METHOD:PUBLISH
X-WR-CALNAME:Huntsville Art Society
X-ORIGINAL-URL:https://huntsvilleart.ca
X-WR-CALDESC:Events for Huntsville Art Society
REFRESH-INTERVAL;VALUE=DURATION:PT1H
X-Robots-Tag:noindex
X-PUBLISHED-TTL:PT1H
BEGIN:VTIMEZONE
TZID:America/Toronto
BEGIN:DAYLIGHT
TZOFFSETFROM:-0500
TZOFFSETTO:-0400
TZNAME:EDT
DTSTART:20220313T070000
END:DAYLIGHT
BEGIN:STANDARD
TZOFFSETFROM:-0400
TZOFFSETTO:-0500
TZNAME:EST
DTSTART:20221106T060000
END:STANDARD
BEGIN:DAYLIGHT
TZOFFSETFROM:-0500
TZOFFSETTO:-0400
TZNAME:EDT
DTSTART:20230312T070000
END:DAYLIGHT
BEGIN:STANDARD
TZOFFSETFROM:-0400
TZOFFSETTO:-0500
TZNAME:EST
DTSTART:20231105T060000
END:STANDARD
BEGIN:DAYLIGHT
TZOFFSETFROM:-0500
TZOFFSETTO:-0400
TZNAME:EDT
DTSTART:20240310T070000
END:DAYLIGHT
BEGIN:STANDARD
TZOFFSETFROM:-0400
TZOFFSETTO:-0500
TZNAME:EST
DTSTART:20241103T060000
END:STANDARD
END:VTIMEZONE
BEGIN:VEVENT
DTSTART;VALUE=DATE:20230404
DTEND;VALUE=DATE:20230705
DTSTAMP:20260420T214502
CREATED:20230302T024231Z
LAST-MODIFIED:20230410T125808Z
UID:2964-1680566400-1688515199@huntsvilleart.ca
SUMMARY:Members' exhibition: Colours of Our Soul
DESCRIPTION:Stop by the Canada Summit Centre to view the recent works of Huntsville Art Society members! More details coming soon.
URL:https://huntsvilleart.ca/event/csc-members-exhibition-colours-of-our-soul/
LOCATION:Canada Summit Centre\, 20 Park Drive\, Huntsville\, Ontario\, P1H 1P5\, Canada
CATEGORIES:Exhibitions
ATTACH;FMTTYPE=image/png:https://huntsvilleart.ca/wp-content/uploads/2023/03/CSC-show-April-4.png
END:VEVENT
BEGIN:VEVENT
DTSTART;VALUE=DATE:20230501
DTEND;VALUE=DATE:20230601
DTSTAMP:20260420T214502
CREATED:20230509T181546Z
LAST-MODIFIED:20230509T181546Z
UID:3136-1682899200-1685577599@huntsvilleart.ca
SUMMARY:Exhibition: Joy of Nature\, by Cheryl Hamel (Monday-Friday\, 10-4:30)
DESCRIPTION:View Cheryl’s works at your leisure Monday to Friday\, 10 a.m. to 4:30 p.m. (Note that the gallery may be closed on occasion for events.) \nAnd be sure to join her for these special events:\nMay 1\, 4-6pm – opening reception\nMay 10\, 4-6pm – meet the artist \nView more of Cheryl’s work at huntsvilleart.ca/artist/cheryl-hamel/.
URL:https://huntsvilleart.ca/event/exhibition-joy-of-nature-by-cheryl-hamel-monday-friday-10-430/
LOCATION:Partners Hall\, Algonquin Theatre\, 37 Main St. East\, Huntsville\, Ontario\, P1H 1A1\, Canada
CATEGORIES:Exhibitions
ATTACH;FMTTYPE=image/jpeg:https://huntsvilleart.ca/wp-content/uploads/2023/05/Cheryl-Hamel-scaled.jpg
END:VEVENT
END:VCALENDAR