BEGIN:VCALENDAR
VERSION:2.0
PRODID:-//Huntsville Art Society - ECPv6.15.20//NONSGML v1.0//EN
CALSCALE:GREGORIAN
METHOD:PUBLISH
X-ORIGINAL-URL:https://huntsvilleart.ca
X-WR-CALDESC:Events for Huntsville Art Society
REFRESH-INTERVAL;VALUE=DURATION:PT1H
X-Robots-Tag:noindex
X-PUBLISHED-TTL:PT1H
BEGIN:VTIMEZONE
TZID:America/Toronto
BEGIN:DAYLIGHT
TZOFFSETFROM:-0500
TZOFFSETTO:-0400
TZNAME:EDT
DTSTART:20220313T070000
END:DAYLIGHT
BEGIN:STANDARD
TZOFFSETFROM:-0400
TZOFFSETTO:-0500
TZNAME:EST
DTSTART:20221106T060000
END:STANDARD
BEGIN:DAYLIGHT
TZOFFSETFROM:-0500
TZOFFSETTO:-0400
TZNAME:EDT
DTSTART:20230312T070000
END:DAYLIGHT
BEGIN:STANDARD
TZOFFSETFROM:-0400
TZOFFSETTO:-0500
TZNAME:EST
DTSTART:20231105T060000
END:STANDARD
BEGIN:DAYLIGHT
TZOFFSETFROM:-0500
TZOFFSETTO:-0400
TZNAME:EDT
DTSTART:20240310T070000
END:DAYLIGHT
BEGIN:STANDARD
TZOFFSETFROM:-0400
TZOFFSETTO:-0500
TZNAME:EST
DTSTART:20241103T060000
END:STANDARD
END:VTIMEZONE
BEGIN:VEVENT
DTSTART;TZID=America/Toronto:20230403T100000
DTEND;TZID=America/Toronto:20230403T163000
DTSTAMP:20260420T232427
CREATED:20230302T025636Z
LAST-MODIFIED:20230302T025658Z
UID:2971-1680516000-1680539400@huntsvilleart.ca
SUMMARY:Exhibition: Extensions of Light\, works by Caroline Butson
DESCRIPTION:View Caroline’s works at your leisure Monday to Friday\, 10 a.m. to 4:30 p.m. (Note that the gallery may be closed on occasion for events.) \nSee more of Caroline’s work at huntsvilleart.ca/artist/caroline-butson.
URL:https://huntsvilleart.ca/event/exhibition-extensions-of-light-works-by-caroline-butson/
LOCATION:Partners Hall\, Algonquin Theatre\, 37 Main St. East\, Huntsville\, Ontario\, P1H 1A1\, Canada
CATEGORIES:Exhibitions
ATTACH;FMTTYPE=image/jpeg:https://huntsvilleart.ca/wp-content/uploads/2023/03/Caroline-Butson-exhibition-scaled.jpg
END:VEVENT
END:VCALENDAR