BEGIN:VCALENDAR
VERSION:2.0
PRODID:-//Huntsville Art Society - ECPv6.15.20//NONSGML v1.0//EN
CALSCALE:GREGORIAN
METHOD:PUBLISH
X-ORIGINAL-URL:https://huntsvilleart.ca
X-WR-CALDESC:Events for Huntsville Art Society
REFRESH-INTERVAL;VALUE=DURATION:PT1H
X-Robots-Tag:noindex
X-PUBLISHED-TTL:PT1H
BEGIN:VTIMEZONE
TZID:America/Toronto
BEGIN:DAYLIGHT
TZOFFSETFROM:-0500
TZOFFSETTO:-0400
TZNAME:EDT
DTSTART:20220313T070000
END:DAYLIGHT
BEGIN:STANDARD
TZOFFSETFROM:-0400
TZOFFSETTO:-0500
TZNAME:EST
DTSTART:20221106T060000
END:STANDARD
BEGIN:DAYLIGHT
TZOFFSETFROM:-0500
TZOFFSETTO:-0400
TZNAME:EDT
DTSTART:20230312T070000
END:DAYLIGHT
BEGIN:STANDARD
TZOFFSETFROM:-0400
TZOFFSETTO:-0500
TZNAME:EST
DTSTART:20231105T060000
END:STANDARD
BEGIN:DAYLIGHT
TZOFFSETFROM:-0500
TZOFFSETTO:-0400
TZNAME:EDT
DTSTART:20240310T070000
END:DAYLIGHT
BEGIN:STANDARD
TZOFFSETFROM:-0400
TZOFFSETTO:-0500
TZNAME:EST
DTSTART:20241103T060000
END:STANDARD
END:VTIMEZONE
BEGIN:VEVENT
DTSTART;TZID=America/Toronto:20230306T100000
DTEND;TZID=America/Toronto:20230306T163000
DTSTAMP:20260421T021730
CREATED:20230222T171735Z
LAST-MODIFIED:20230222T171735Z
UID:2893-1678096800-1678120200@huntsvilleart.ca
SUMMARY:Exhibition: Silent Landscapes\, landscape photography by Steve Moretti
DESCRIPTION:View Steve’s works at your leisure Monday to Friday\, 10 a.m. to 4:30 p.m. (Note that the gallery may be closed on occasion for events.) Opening reception: March 10\, 2023 from 4-6 p.m. \nSee more of Steve’s work at stevemorettiphotography.com or on Instagram @steve.moretti.
URL:https://huntsvilleart.ca/event/exhibition-silent-landscapes-landscape-photography-by-steve-moretti-3/
LOCATION:Partners Hall\, Algonquin Theatre\, 37 Main St. East\, Huntsville\, Ontario\, P1H 1A1\, Canada
CATEGORIES:Exhibitions
ATTACH;FMTTYPE=image/jpeg:https://huntsvilleart.ca/wp-content/uploads/2023/02/Moretti-3-YUGothic-UI-copy.jpg
END:VEVENT
END:VCALENDAR