BEGIN:VCALENDAR
VERSION:2.0
PRODID:-//Huntsville Art Society - ECPv6.15.20//NONSGML v1.0//EN
CALSCALE:GREGORIAN
METHOD:PUBLISH
X-ORIGINAL-URL:https://huntsvilleart.ca
X-WR-CALDESC:Events for Huntsville Art Society
REFRESH-INTERVAL;VALUE=DURATION:PT1H
X-Robots-Tag:noindex
X-PUBLISHED-TTL:PT1H
BEGIN:VTIMEZONE
TZID:America/Toronto
BEGIN:DAYLIGHT
TZOFFSETFROM:-0500
TZOFFSETTO:-0400
TZNAME:EDT
DTSTART:20220313T070000
END:DAYLIGHT
BEGIN:STANDARD
TZOFFSETFROM:-0400
TZOFFSETTO:-0500
TZNAME:EST
DTSTART:20221106T060000
END:STANDARD
BEGIN:DAYLIGHT
TZOFFSETFROM:-0500
TZOFFSETTO:-0400
TZNAME:EDT
DTSTART:20230312T070000
END:DAYLIGHT
BEGIN:STANDARD
TZOFFSETFROM:-0400
TZOFFSETTO:-0500
TZNAME:EST
DTSTART:20231105T060000
END:STANDARD
BEGIN:DAYLIGHT
TZOFFSETFROM:-0500
TZOFFSETTO:-0400
TZNAME:EDT
DTSTART:20240310T070000
END:DAYLIGHT
BEGIN:STANDARD
TZOFFSETFROM:-0400
TZOFFSETTO:-0500
TZNAME:EST
DTSTART:20241103T060000
END:STANDARD
END:VTIMEZONE
BEGIN:VEVENT
DTSTART;TZID=America/Toronto:20230216T100000
DTEND;TZID=America/Toronto:20230216T163000
DTSTAMP:20260421T023638
CREATED:20230106T213742Z
LAST-MODIFIED:20230106T213742Z
UID:2814-1676541600-1676565000@huntsvilleart.ca
SUMMARY:New members’ group exhibition: Let Us Introduce You
DESCRIPTION:Meet some of Huntsville Art Society’s newest members! This group exhibition will be available for viewing Monday-Friday\, January 26-February 27\, 2023 from 10 a.m. to 4:30 p.m. in Partners Hall at the Algonquin Theatre. \nFeaturing the works of: \nJason Bolduc\nWarren Broad\nShannon Chipman\nBarbara Elliott\nKarla Houser\nTiffany Monk\nCarol Mordy\nCaroline Pattison\nJanell Penner\nDelight Rogers\nRobin Walton\nNancy Watt\nMara Smelters-Wier
URL:https://huntsvilleart.ca/event/new-members-group-exhibition-let-us-introduce-you-15/
LOCATION:Partners Hall\, Algonquin Theatre\, 37 Main St. East\, Huntsville\, Ontario\, P1H 1A1\, Canada
CATEGORIES:Exhibitions
ATTACH;FMTTYPE=image/jpeg:https://huntsvilleart.ca/wp-content/uploads/2022/12/Let-Us-Introduce-You-Posterfinal-scaled.jpg
END:VEVENT
BEGIN:VEVENT
DTSTART;TZID=America/Toronto:20230216T160000
DTEND;TZID=America/Toronto:20230216T180000
DTSTAMP:20260421T023638
CREATED:20230106T212659Z
LAST-MODIFIED:20230214T202656Z
UID:2804-1676563200-1676570400@huntsvilleart.ca
SUMMARY:OPENING RECEPTION New members’ group exhibition: Let Us Introduce You
DESCRIPTION:Join some of Huntsville Art Society’s newest members for an opening reception highlighting some of their works in our group exhibition\, Let Us Introduce You. \nThe exhibition is available for viewing Monday-Friday until February 27\, 2023 from 10 a.m. to 4:30 p.m. in Partners Hall at the Algonquin Theatre. \nFeaturing the works of: \nJason Bolduc\nWarren Broad\nShannon Chipman\nBarbara Elliott\nKarla Houser\nTiffany Monk\nCarol Mordy\nCaroline Pattison\nJanell Penner\nDelight Rogers\nRobin Walton\nNancy Watt\nMara Smelters-Wier
URL:https://huntsvilleart.ca/event/opening-reception-new-members-group-exhibition-let-us-introduce-you/
LOCATION:Partners Hall\, Algonquin Theatre\, 37 Main St. East\, Huntsville\, Ontario\, P1H 1A1\, Canada
CATEGORIES:Exhibitions
ATTACH;FMTTYPE=image/jpeg:https://huntsvilleart.ca/wp-content/uploads/2022/12/Let-Us-Introduce-You-Posterfinal-scaled.jpg
END:VEVENT
END:VCALENDAR