BEGIN:VCALENDAR
VERSION:2.0
PRODID:-//Huntsville Art Society - ECPv6.15.20//NONSGML v1.0//EN
CALSCALE:GREGORIAN
METHOD:PUBLISH
X-ORIGINAL-URL:https://huntsvilleart.ca
X-WR-CALDESC:Events for Huntsville Art Society
REFRESH-INTERVAL;VALUE=DURATION:PT1H
X-Robots-Tag:noindex
X-PUBLISHED-TTL:PT1H
BEGIN:VTIMEZONE
TZID:America/Toronto
BEGIN:DAYLIGHT
TZOFFSETFROM:-0500
TZOFFSETTO:-0400
TZNAME:EDT
DTSTART:20210314T070000
END:DAYLIGHT
BEGIN:STANDARD
TZOFFSETFROM:-0400
TZOFFSETTO:-0500
TZNAME:EST
DTSTART:20211107T060000
END:STANDARD
BEGIN:DAYLIGHT
TZOFFSETFROM:-0500
TZOFFSETTO:-0400
TZNAME:EDT
DTSTART:20220313T070000
END:DAYLIGHT
BEGIN:STANDARD
TZOFFSETFROM:-0400
TZOFFSETTO:-0500
TZNAME:EST
DTSTART:20221106T060000
END:STANDARD
BEGIN:DAYLIGHT
TZOFFSETFROM:-0500
TZOFFSETTO:-0400
TZNAME:EDT
DTSTART:20230312T070000
END:DAYLIGHT
BEGIN:STANDARD
TZOFFSETFROM:-0400
TZOFFSETTO:-0500
TZNAME:EST
DTSTART:20231105T060000
END:STANDARD
END:VTIMEZONE
BEGIN:VEVENT
DTSTART;TZID=America/Toronto:20221202T100000
DTEND;TZID=America/Toronto:20221202T163000
DTSTAMP:20260421T070016
CREATED:20221122T182152Z
LAST-MODIFIED:20221122T182152Z
UID:2656-1669975200-1669998600@huntsvilleart.ca
SUMMARY:Exhibition: From the Collection of...
DESCRIPTION:Head to Partners Hall at the Algonquin Theatre to view works from the private collections of local art lovers Nancy Alcock\, Steve Campbell and Noreen Mitchell\, Karen Cassian\, Stan Herman\, and Inez and Bill McGarrity. \nOpen Monday-Friday from 10 a.m. to 4:30 p.m. (Note that the gallery may be closed on occasion for private functions.) \nReception to be held December 17 from 4-6 p.m.
URL:https://huntsvilleart.ca/event/exhibition-from-the-collection-of/
LOCATION:Partners Hall\, Algonquin Theatre\, 37 Main St. East\, Huntsville\, Ontario\, P1H 1A1\, Canada
CATEGORIES:Exhibitions
ATTACH;FMTTYPE=image/jpeg:https://huntsvilleart.ca/wp-content/uploads/2022/11/Collection-Show3.jpg
END:VEVENT
END:VCALENDAR