BEGIN:VCALENDAR
VERSION:2.0
PRODID:-//Huntsville Art Society - ECPv6.15.20//NONSGML v1.0//EN
CALSCALE:GREGORIAN
METHOD:PUBLISH
X-ORIGINAL-URL:https://huntsvilleart.ca
X-WR-CALDESC:Events for Huntsville Art Society
REFRESH-INTERVAL;VALUE=DURATION:PT1H
X-Robots-Tag:noindex
X-PUBLISHED-TTL:PT1H
BEGIN:VTIMEZONE
TZID:America/Toronto
BEGIN:DAYLIGHT
TZOFFSETFROM:-0500
TZOFFSETTO:-0400
TZNAME:EDT
DTSTART:20210314T070000
END:DAYLIGHT
BEGIN:STANDARD
TZOFFSETFROM:-0400
TZOFFSETTO:-0500
TZNAME:EST
DTSTART:20211107T060000
END:STANDARD
BEGIN:DAYLIGHT
TZOFFSETFROM:-0500
TZOFFSETTO:-0400
TZNAME:EDT
DTSTART:20220313T070000
END:DAYLIGHT
BEGIN:STANDARD
TZOFFSETFROM:-0400
TZOFFSETTO:-0500
TZNAME:EST
DTSTART:20221106T060000
END:STANDARD
BEGIN:DAYLIGHT
TZOFFSETFROM:-0500
TZOFFSETTO:-0400
TZNAME:EDT
DTSTART:20230312T070000
END:DAYLIGHT
BEGIN:STANDARD
TZOFFSETFROM:-0400
TZOFFSETTO:-0500
TZNAME:EST
DTSTART:20231105T060000
END:STANDARD
END:VTIMEZONE
BEGIN:VEVENT
DTSTART;TZID=America/Toronto:20221107T100000
DTEND;TZID=America/Toronto:20221107T163000
DTSTAMP:20260421T082602
CREATED:20221025T154452Z
LAST-MODIFIED:20221025T154452Z
UID:2598-1667815200-1667838600@huntsvilleart.ca
SUMMARY:Lemonade: A Show of Resolve\, by Pam Mackenzie
DESCRIPTION:View Pam’s works at your leisure Monday to Friday\, 10 a.m. to 4:30 p.m. (Note that the gallery may be closed on occasion for events.) \n\n\n\n\n\nArtist Statement \nLast year\, on September 28th\, I fell down a flight of ten cement stairs and began a journey that had unexpected results. \nIt began with six casts\, three resets and one surgery. Then\, there followed two splints and many\, many months of physiotherapy. When both of your arms and hands are encased in casts your ability to do anything is very limited. I was able to physically cope with the help of many amazing friends–they did everything… from bringing food and cooking\, helping me bathe\, and shopping for me\, to making seemingly endless trips to Soldiers Memorial Hospital in Orillia. As well\, I was fortunate in having a husband who dressed\, sponge bathed\, brushed hair\, the list just goes on… \nBut\, mentally\, I was stretched. Accustomed to being very independent and able to accomplish what I wanted\, I found myself up the proverbial creek without a paddle. My “normal” artistic endeavours were portraiture and landscapes\, but I was not able even to hold a paintbrush. So\, I had to explore what I could do if I put my mind to it–with just the tips of four fingers on my left hand and the tips of my thumb and first two fingers on my right\, and not weight bearing all the while! Thus began my explorations of pouring paint on little 6” x 6” frames. I learned about mixing the paints to affect the results and I also experimented with adding different solutions to thin the paint. \nAs it was fall then winter\, I did not have the ventilation needed for using the chemicals employed in this process\, though I did try; I stopped out of concern about the chemical effects. \nThe result is the body of work before you\, as I worked my way from splints and through physiotherapy until I was able to work on the larger pieces you see here. This process of doing something so very different brought me\, peace\, joy\, laughter\, and a sense of being in control. If you look closely at the work\, you will find surprising effects that I hope will bring a smile. \nSo\, when life hands you lemons\, make lemonade! \n\n\n\n\n\n\n\n\n\n\nhttps://huntsvilleart.ca/artist/pam-mackenzie/
URL:https://huntsvilleart.ca/event/lemonade-a-show-of-resolve-by-pam-mackenzie-5/
LOCATION:Partners Hall\, Algonquin Theatre\, 37 Main St. East\, Huntsville\, Ontario\, P1H 1A1\, Canada
CATEGORIES:Exhibitions
ATTACH;FMTTYPE=image/jpeg:https://huntsvilleart.ca/wp-content/uploads/2022/10/Pam-McKenzie-Lemonade-exhibition.jpg
END:VEVENT
END:VCALENDAR