BEGIN:VCALENDAR
VERSION:2.0
PRODID:-//Huntsville Art Society - ECPv6.15.20//NONSGML v1.0//EN
CALSCALE:GREGORIAN
METHOD:PUBLISH
X-ORIGINAL-URL:https://huntsvilleart.ca
X-WR-CALDESC:Events for Huntsville Art Society
REFRESH-INTERVAL;VALUE=DURATION:PT1H
X-Robots-Tag:noindex
X-PUBLISHED-TTL:PT1H
BEGIN:VTIMEZONE
TZID:America/Toronto
BEGIN:DAYLIGHT
TZOFFSETFROM:-0500
TZOFFSETTO:-0400
TZNAME:EDT
DTSTART:20200308T070000
END:DAYLIGHT
BEGIN:STANDARD
TZOFFSETFROM:-0400
TZOFFSETTO:-0500
TZNAME:EST
DTSTART:20201101T060000
END:STANDARD
BEGIN:DAYLIGHT
TZOFFSETFROM:-0500
TZOFFSETTO:-0400
TZNAME:EDT
DTSTART:20210314T070000
END:DAYLIGHT
BEGIN:STANDARD
TZOFFSETFROM:-0400
TZOFFSETTO:-0500
TZNAME:EST
DTSTART:20211107T060000
END:STANDARD
BEGIN:DAYLIGHT
TZOFFSETFROM:-0500
TZOFFSETTO:-0400
TZNAME:EDT
DTSTART:20220313T070000
END:DAYLIGHT
BEGIN:STANDARD
TZOFFSETFROM:-0400
TZOFFSETTO:-0500
TZNAME:EST
DTSTART:20221106T060000
END:STANDARD
END:VTIMEZONE
BEGIN:VEVENT
DTSTART;VALUE=DATE:20211001
DTEND;VALUE=DATE:20211030
DTSTAMP:20260419T184431
CREATED:20210909T160701Z
LAST-MODIFIED:20211001T125154Z
UID:1875-1633046400-1635551999@huntsvilleart.ca
SUMMARY:One World We Share - Michelle Vyn
DESCRIPTION:A Solo Exhibition of “Vine Art” by Michelle Vyn. \nONE WORLD WE SHARE – October 1 – 29\, 2021 \nHours are Monday to Friday 8:30 am – 4:30 pm (no weekends at this time). \n*** Due to current Covid 19 restrictions: Up to 35 people are allowed at a time in the Partners Hall Gallery to view the art. There will be no official opening reception\, due to the number of people allowed in the gallery. The art has to stay on the walls until the end of the show. If Matt Huddlestone is not present\, interested buyers can email the artist directly (signage will be posted and business cards are available). \nThe artist has provided “souvenir” post cards and art cards for visitors – please choose one from the available cards.
URL:https://huntsvilleart.ca/event/one-world-we-share/
LOCATION:Partners Hall\, Algonquin Theatre\, 37 Main St. East\, Huntsville\, Ontario\, P1H 1A1\, Canada
CATEGORIES:Exhibitions
ATTACH;FMTTYPE=image/jpeg:https://huntsvilleart.ca/wp-content/uploads/2021/09/One-World-We-Share-poster-w-border-scaled.jpg
END:VEVENT
END:VCALENDAR