BEGIN:VCALENDAR
VERSION:2.0
PRODID:-//Huntsville Art Society - ECPv6.15.20//NONSGML v1.0//EN
CALSCALE:GREGORIAN
METHOD:PUBLISH
X-ORIGINAL-URL:https://huntsvilleart.ca
X-WR-CALDESC:Events for Huntsville Art Society
REFRESH-INTERVAL;VALUE=DURATION:PT1H
X-Robots-Tag:noindex
X-PUBLISHED-TTL:PT1H
BEGIN:VTIMEZONE
TZID:America/Toronto
BEGIN:DAYLIGHT
TZOFFSETFROM:-0500
TZOFFSETTO:-0400
TZNAME:EDT
DTSTART:20200308T070000
END:DAYLIGHT
BEGIN:STANDARD
TZOFFSETFROM:-0400
TZOFFSETTO:-0500
TZNAME:EST
DTSTART:20201101T060000
END:STANDARD
BEGIN:DAYLIGHT
TZOFFSETFROM:-0500
TZOFFSETTO:-0400
TZNAME:EDT
DTSTART:20210314T070000
END:DAYLIGHT
BEGIN:STANDARD
TZOFFSETFROM:-0400
TZOFFSETTO:-0500
TZNAME:EST
DTSTART:20211107T060000
END:STANDARD
BEGIN:DAYLIGHT
TZOFFSETFROM:-0500
TZOFFSETTO:-0400
TZNAME:EDT
DTSTART:20220313T070000
END:DAYLIGHT
BEGIN:STANDARD
TZOFFSETFROM:-0400
TZOFFSETTO:-0500
TZNAME:EST
DTSTART:20221106T060000
END:STANDARD
END:VTIMEZONE
BEGIN:VEVENT
DTSTART;VALUE=DATE:20210827
DTEND;VALUE=DATE:20210829
DTSTAMP:20260420T003623
CREATED:20210808T193935Z
LAST-MODIFIED:20210808T193935Z
UID:1866-1630022400-1630195199@huntsvilleart.ca
SUMMARY:Billy Mac Live - Art Show & Music Review
DESCRIPTION:Art & Music presented by Billy MacPherson \nArt Show on Friday\, August 27 (12:00 – 5:00) and Saturday\, August 28 (10:00 – 5:00). \nMusical Review on Friday evening: Friday\, August 27 (7:00 – 8:30) \n 
URL:https://huntsvilleart.ca/event/billy-mac-live-art-show-music-review/
LOCATION:Morgan House Bed & Breakfast\, 83 Morgan's Road\, Huntsville\, Ontario\, P1H 1A2\, Canada
ATTACH;FMTTYPE=image/jpeg:https://huntsvilleart.ca/wp-content/uploads/2021/08/MorganHouse_BillyMacArtShowReview.jpeg
END:VEVENT
END:VCALENDAR