BEGIN:VCALENDAR
VERSION:2.0
PRODID:-//Huntsville Art Society - ECPv6.15.20//NONSGML v1.0//EN
CALSCALE:GREGORIAN
METHOD:PUBLISH
X-WR-CALNAME:Huntsville Art Society
X-ORIGINAL-URL:https://huntsvilleart.ca
X-WR-CALDESC:Events for Huntsville Art Society
REFRESH-INTERVAL;VALUE=DURATION:PT1H
X-Robots-Tag:noindex
X-PUBLISHED-TTL:PT1H
BEGIN:VTIMEZONE
TZID:America/Toronto
BEGIN:DAYLIGHT
TZOFFSETFROM:-0500
TZOFFSETTO:-0400
TZNAME:EDT
DTSTART:20190310T070000
END:DAYLIGHT
BEGIN:STANDARD
TZOFFSETFROM:-0400
TZOFFSETTO:-0500
TZNAME:EST
DTSTART:20191103T060000
END:STANDARD
BEGIN:DAYLIGHT
TZOFFSETFROM:-0500
TZOFFSETTO:-0400
TZNAME:EDT
DTSTART:20200308T070000
END:DAYLIGHT
BEGIN:STANDARD
TZOFFSETFROM:-0400
TZOFFSETTO:-0500
TZNAME:EST
DTSTART:20201101T060000
END:STANDARD
BEGIN:DAYLIGHT
TZOFFSETFROM:-0500
TZOFFSETTO:-0400
TZNAME:EDT
DTSTART:20210314T070000
END:DAYLIGHT
BEGIN:STANDARD
TZOFFSETFROM:-0400
TZOFFSETTO:-0500
TZNAME:EST
DTSTART:20211107T060000
END:STANDARD
END:VTIMEZONE
BEGIN:VEVENT
DTSTART;VALUE=DATE:20200101
DTEND;VALUE=DATE:20200301
DTSTAMP:20260421T200319
CREATED:20200312T161936Z
LAST-MODIFIED:20200312T162048Z
UID:1537-1577836800-1583020799@huntsvilleart.ca
SUMMARY:Susan Lowe
DESCRIPTION:
URL:https://huntsvilleart.ca/event/susan-lowe/
LOCATION:Huntsville Public Library\, 7 Minerva Street East\, Huntsville\, Ontario\, P1H 1W4\, Canada
CATEGORIES:Exhibitions - Huntsville Public Library
END:VEVENT
BEGIN:VEVENT
DTSTART;VALUE=DATE:20200128
DTEND;VALUE=DATE:20200305
DTSTAMP:20260421T200319
CREATED:20200102T153615Z
LAST-MODIFIED:20200102T153615Z
UID:1503-1580169600-1583366399@huntsvilleart.ca
SUMMARY:Third Annual Emerging Artists Show
DESCRIPTION:An annual show featuring artists that are just emerging from studio to showing in a gallery\, often for the first time.  This is an exciting show with some innovative fresh works as these artists take the next step to showing their work in a public forum.
URL:https://huntsvilleart.ca/event/third-annual-emerging-artists-show/
LOCATION:Partners Hall\, Algonquin Theatre\, 37 Main St. East\, Huntsville\, Ontario\, P1H 1A1\, Canada
CATEGORIES:Exhibitions
ATTACH;FMTTYPE=image/jpeg:https://huntsvilleart.ca/wp-content/uploads/2020/01/1.-2020-Emerging-Show-Poster-scaled.jpg
END:VEVENT
END:VCALENDAR