BEGIN:VCALENDAR
VERSION:2.0
PRODID:-//Huntsville Art Society - ECPv6.15.20//NONSGML v1.0//EN
CALSCALE:GREGORIAN
METHOD:PUBLISH
X-ORIGINAL-URL:https://huntsvilleart.ca
X-WR-CALDESC:Events for Huntsville Art Society
REFRESH-INTERVAL;VALUE=DURATION:PT1H
X-Robots-Tag:noindex
X-PUBLISHED-TTL:PT1H
BEGIN:VTIMEZONE
TZID:America/Toronto
BEGIN:DAYLIGHT
TZOFFSETFROM:-0500
TZOFFSETTO:-0400
TZNAME:EDT
DTSTART:20180311T070000
END:DAYLIGHT
BEGIN:STANDARD
TZOFFSETFROM:-0400
TZOFFSETTO:-0500
TZNAME:EST
DTSTART:20181104T060000
END:STANDARD
BEGIN:DAYLIGHT
TZOFFSETFROM:-0500
TZOFFSETTO:-0400
TZNAME:EDT
DTSTART:20190310T070000
END:DAYLIGHT
BEGIN:STANDARD
TZOFFSETFROM:-0400
TZOFFSETTO:-0500
TZNAME:EST
DTSTART:20191103T060000
END:STANDARD
BEGIN:DAYLIGHT
TZOFFSETFROM:-0500
TZOFFSETTO:-0400
TZNAME:EDT
DTSTART:20200308T070000
END:DAYLIGHT
BEGIN:STANDARD
TZOFFSETFROM:-0400
TZOFFSETTO:-0500
TZNAME:EST
DTSTART:20201101T060000
END:STANDARD
END:VTIMEZONE
BEGIN:VEVENT
DTSTART;VALUE=DATE:20190501
DTEND;VALUE=DATE:20190702
DTSTAMP:20260422T133408
CREATED:20190118T185441Z
LAST-MODIFIED:20190609T152448Z
UID:1012-1556672400-1561942799@huntsvilleart.ca
SUMMARY:Debbie Madill
DESCRIPTION:Artwork displayed throughout the Huntsville Public Library
URL:https://huntsvilleart.ca/event/debbie-madill/
LOCATION:Huntsville Public Library\, 7 Minerva Street East\, Huntsville\, Ontario\, P1H 1W4\, Canada
CATEGORIES:Exhibitions - Huntsville Public Library
END:VEVENT
BEGIN:VEVENT
DTSTART;TZID=America/Toronto:20190531T093000
DTEND;TZID=America/Toronto:20190626T163000
DTSTAMP:20260422T133408
CREATED:20190117T205546Z
LAST-MODIFIED:20190609T152756Z
UID:967-1559295000-1561566600@huntsvilleart.ca
SUMMARY:Michelle Vyn - Discovery\, Wonder & Storytelling
DESCRIPTION:Opening Reception: Sat.\, June 15th\, 1 – 3 pm. Artist Talk starting at 1:30. \nPartners Hall Gallery Hours: Monday – Friday\, 9:30 – 4:30; Saturday 10:00 – 4:00; Sundays closed.
URL:https://huntsvilleart.ca/event/michelle-vyn-discovery-wonder-storytelling/
LOCATION:Partners Hall\, Algonquin Theatre\, 37 Main St. East\, Huntsville\, Ontario\, P1H 1A1\, Canada
CATEGORIES:Exhibitions
END:VEVENT
END:VCALENDAR